BEGIN:VCALENDAR
VERSION:2.0
PRODID:-//Centre culturel Protestant de l&#039;Ouest - ECPv6.15.12.2//NONSGML v1.0//EN
CALSCALE:GREGORIAN
METHOD:PUBLISH
X-WR-CALNAME:Centre culturel Protestant de l&#039;Ouest
X-ORIGINAL-URL:https://centreprotestantdelouest.ovh
X-WR-CALDESC:Évènements pour Centre culturel Protestant de l&#039;Ouest
REFRESH-INTERVAL;VALUE=DURATION:PT1H
X-Robots-Tag:noindex
X-PUBLISHED-TTL:PT1H
BEGIN:VTIMEZONE
TZID:Europe/Paris
BEGIN:DAYLIGHT
TZOFFSETFROM:+0100
TZOFFSETTO:+0200
TZNAME:CEST
DTSTART:20240331T010000
END:DAYLIGHT
BEGIN:STANDARD
TZOFFSETFROM:+0200
TZOFFSETTO:+0100
TZNAME:CET
DTSTART:20241027T010000
END:STANDARD
BEGIN:DAYLIGHT
TZOFFSETFROM:+0100
TZOFFSETTO:+0200
TZNAME:CEST
DTSTART:20250330T010000
END:DAYLIGHT
BEGIN:STANDARD
TZOFFSETFROM:+0200
TZOFFSETTO:+0100
TZNAME:CET
DTSTART:20251026T010000
END:STANDARD
BEGIN:DAYLIGHT
TZOFFSETFROM:+0100
TZOFFSETTO:+0200
TZNAME:CEST
DTSTART:20260329T010000
END:DAYLIGHT
BEGIN:STANDARD
TZOFFSETFROM:+0200
TZOFFSETTO:+0100
TZNAME:CET
DTSTART:20261025T010000
END:STANDARD
END:VTIMEZONE
BEGIN:VEVENT
DTSTART;VALUE=DATE:20250528
DTEND;VALUE=DATE:20250529
DTSTAMP:20260422T021139
CREATED:20251229T133155Z
LAST-MODIFIED:20251229T133155Z
UID:273-1748390400-1748476799@centreprotestantdelouest.ovh
SUMMARY:Voyage : Visite de Lascaux IV\, du Parc du Thot et de l’église souterraine d’Aubeterre et Dronne au retour.
DESCRIPTION:Visite de Lascaux IV\, du Parc du Thot et de l’église souterraine d’Aubeterre et Dronne au retour.
URL:https://centreprotestantdelouest.ovh/index.php/event/voyage-visite-de-lascaux-iv-du-parc-du-thot-et-de-leglise-souterraine-daubeterre-et-dronne-au-retour/
LOCATION:Deux Sèvres
CATEGORIES:Voyage
ORGANIZER;CN="CPO":MAILTO:contact@centreprotestantdelouest.ovh
END:VEVENT
END:VCALENDAR