BEGIN:VCALENDAR
VERSION:2.0
PRODID:-//Centre culturel Protestant de l&#039;Ouest - ECPv6.15.12.2//NONSGML v1.0//EN
CALSCALE:GREGORIAN
METHOD:PUBLISH
X-ORIGINAL-URL:https://centreprotestantdelouest.ovh
X-WR-CALDESC:Évènements pour Centre culturel Protestant de l&#039;Ouest
REFRESH-INTERVAL;VALUE=DURATION:PT1H
X-Robots-Tag:noindex
X-PUBLISHED-TTL:PT1H
BEGIN:VTIMEZONE
TZID:Europe/Paris
BEGIN:DAYLIGHT
TZOFFSETFROM:+0100
TZOFFSETTO:+0200
TZNAME:CEST
DTSTART:20250330T010000
END:DAYLIGHT
BEGIN:STANDARD
TZOFFSETFROM:+0200
TZOFFSETTO:+0100
TZNAME:CET
DTSTART:20251026T010000
END:STANDARD
BEGIN:DAYLIGHT
TZOFFSETFROM:+0100
TZOFFSETTO:+0200
TZNAME:CEST
DTSTART:20260329T010000
END:DAYLIGHT
BEGIN:STANDARD
TZOFFSETFROM:+0200
TZOFFSETTO:+0100
TZNAME:CET
DTSTART:20261025T010000
END:STANDARD
BEGIN:DAYLIGHT
TZOFFSETFROM:+0100
TZOFFSETTO:+0200
TZNAME:CEST
DTSTART:20270328T010000
END:DAYLIGHT
BEGIN:STANDARD
TZOFFSETFROM:+0200
TZOFFSETTO:+0100
TZNAME:CET
DTSTART:20271031T010000
END:STANDARD
END:VTIMEZONE
BEGIN:VEVENT
DTSTART;TZID=Europe/Paris:20260219T183000
DTEND;TZID=Europe/Paris:20260219T200000
DTSTAMP:20260421T135728
CREATED:20260112T155333Z
LAST-MODIFIED:20260112T161716Z
UID:319-1771525800-1771531200@centreprotestantdelouest.ovh
SUMMARY:Conférence : Capture\, Stockage et Utilisation de CO2
DESCRIPTION:Conférence : Capture\, Stockage et Utilisation de CO2\npar Joël BARRAULT Directeur de Recherche Honoraire au CNRS – Université de Poitiers \nRésumé : La surexploitation des ressources fossiles (charbon\, pétrole\, gaz) et les problèmes associés (réchauffement climatique\, érosion de la biodiversité\, accès à l’eau potable\, etc)\, nécessitent de revoir le mode de développement de notre société. Une impulsion forte est actuellement donnée à sa « défossilisation » pour minimiser la formation de gaz à effet de serre (GES). Différentes stratégies sont à l’étude parmi lesquelles la capture\, le stockage et la valorisation de CO2. A ce jour ces technologies permettent de contrôler des émissions de CO₂ à la source\, en le stockant durablement ou en le valorisant dans des procédés industriels (carburants\, composés organiques\, …).
URL:https://centreprotestantdelouest.ovh/index.php/event/conference-capture-stockage-et-utilisation-de-co2/
LOCATION:Metullum – Salle Le Méliès\, Pl. Bujault\, Melle\, 79500\, France
CATEGORIES:Conférence
ORGANIZER;CN="CPO":MAILTO:contact@centreprotestantdelouest.ovh
END:VEVENT
END:VCALENDAR