BEGIN:VCALENDAR
VERSION:2.0
PRODID:-//Centre culturel Protestant de l&#039;Ouest - ECPv6.15.12.2//NONSGML v1.0//EN
CALSCALE:GREGORIAN
METHOD:PUBLISH
X-ORIGINAL-URL:https://centreprotestantdelouest.ovh
X-WR-CALDESC:Évènements pour Centre culturel Protestant de l&#039;Ouest
REFRESH-INTERVAL;VALUE=DURATION:PT1H
X-Robots-Tag:noindex
X-PUBLISHED-TTL:PT1H
BEGIN:VTIMEZONE
TZID:Europe/Paris
BEGIN:DAYLIGHT
TZOFFSETFROM:+0100
TZOFFSETTO:+0200
TZNAME:CEST
DTSTART:20230326T010000
END:DAYLIGHT
BEGIN:STANDARD
TZOFFSETFROM:+0200
TZOFFSETTO:+0100
TZNAME:CET
DTSTART:20231029T010000
END:STANDARD
BEGIN:DAYLIGHT
TZOFFSETFROM:+0100
TZOFFSETTO:+0200
TZNAME:CEST
DTSTART:20240331T010000
END:DAYLIGHT
BEGIN:STANDARD
TZOFFSETFROM:+0200
TZOFFSETTO:+0100
TZNAME:CET
DTSTART:20241027T010000
END:STANDARD
BEGIN:DAYLIGHT
TZOFFSETFROM:+0100
TZOFFSETTO:+0200
TZNAME:CEST
DTSTART:20250330T010000
END:DAYLIGHT
BEGIN:STANDARD
TZOFFSETFROM:+0200
TZOFFSETTO:+0100
TZNAME:CET
DTSTART:20251026T010000
END:STANDARD
END:VTIMEZONE
BEGIN:VEVENT
DTSTART;TZID=Europe/Paris:20241104T103000
DTEND;TZID=Europe/Paris:20241104T123000
DTSTAMP:20260422T120741
CREATED:20251229T141158Z
LAST-MODIFIED:20251229T141358Z
UID:287-1730716200-1730723400@centreprotestantdelouest.ovh
SUMMARY:Café-lecture : Ecologie\, Technique et Société.
DESCRIPTION:Ecologie\, Technique et Société.\nCafé-lecture autour du texte de Jacques ELLUL intitulé : Ecologie\, Technique et Société \nparu dans les cahiers du CPO de décembre 1982.
URL:https://centreprotestantdelouest.ovh/index.php/event/cafe-lecture-ecologie-technique-et-societe/
LOCATION:Salle Le Mélia\, 62 Rue du Tapis Vert\, Melle\, Deux-Sèvres\, 79500\, France
ORGANIZER;CN="CPO":MAILTO:contact@centreprotestantdelouest.ovh
END:VEVENT
END:VCALENDAR