BEGIN:VCALENDAR
VERSION:2.0
PRODID:-//Centre culturel Protestant de l&#039;Ouest - ECPv6.15.12.2//NONSGML v1.0//EN
CALSCALE:GREGORIAN
METHOD:PUBLISH
X-ORIGINAL-URL:https://centreprotestantdelouest.ovh
X-WR-CALDESC:Évènements pour Centre culturel Protestant de l&#039;Ouest
REFRESH-INTERVAL;VALUE=DURATION:PT1H
X-Robots-Tag:noindex
X-PUBLISHED-TTL:PT1H
BEGIN:VTIMEZONE
TZID:Europe/Paris
BEGIN:DAYLIGHT
TZOFFSETFROM:+0100
TZOFFSETTO:+0200
TZNAME:CEST
DTSTART:20240331T010000
END:DAYLIGHT
BEGIN:STANDARD
TZOFFSETFROM:+0200
TZOFFSETTO:+0100
TZNAME:CET
DTSTART:20241027T010000
END:STANDARD
BEGIN:DAYLIGHT
TZOFFSETFROM:+0100
TZOFFSETTO:+0200
TZNAME:CEST
DTSTART:20250330T010000
END:DAYLIGHT
BEGIN:STANDARD
TZOFFSETFROM:+0200
TZOFFSETTO:+0100
TZNAME:CET
DTSTART:20251026T010000
END:STANDARD
BEGIN:DAYLIGHT
TZOFFSETFROM:+0100
TZOFFSETTO:+0200
TZNAME:CEST
DTSTART:20260329T010000
END:DAYLIGHT
BEGIN:STANDARD
TZOFFSETFROM:+0200
TZOFFSETTO:+0100
TZNAME:CET
DTSTART:20261025T010000
END:STANDARD
END:VTIMEZONE
BEGIN:VEVENT
DTSTART;TZID=Europe/Paris:20250108T183000
DTEND;TZID=Europe/Paris:20250108T203000
DTSTAMP:20260422T085624
CREATED:20251229T135408Z
LAST-MODIFIED:20251229T135408Z
UID:282-1736361000-1736368200@centreprotestantdelouest.ovh
SUMMARY:Conférence : Lascaux : un art visible\, discret\, caché\, à la frontière du réel et de l’imaginaire.
DESCRIPTION:Lascaux : un art visible\, discret\, caché\, à la frontière du réel et de l’imaginaire.\nConférence de Denis TAUXE (Museum d’Histoire Naturelle de Paris\, Ancien Référent du Centre International d’art pariétal de Montignac-Lascaux)
URL:https://centreprotestantdelouest.ovh/index.php/event/conference-lascaux-un-art-visible-discret-cache-a-la-frontiere-du-reel-et-de-limaginaire/
LOCATION:Salle des Fêtes de Saint Martin les Melle\, 37 rue de la mairie\, St Martin les Melle\, Deux-Sèvres\, 79500\, France
CATEGORIES:Conférence
ORGANIZER;CN="CPO":MAILTO:contact@centreprotestantdelouest.ovh
END:VEVENT
END:VCALENDAR