BEGIN:VCALENDAR
VERSION:2.0
PRODID:-//Centre culturel Protestant de l&#039;Ouest - ECPv6.15.12.2//NONSGML v1.0//EN
CALSCALE:GREGORIAN
METHOD:PUBLISH
X-WR-CALNAME:Centre culturel Protestant de l&#039;Ouest
X-ORIGINAL-URL:https://centreprotestantdelouest.ovh
X-WR-CALDESC:Évènements pour Centre culturel Protestant de l&#039;Ouest
REFRESH-INTERVAL;VALUE=DURATION:PT1H
X-Robots-Tag:noindex
X-PUBLISHED-TTL:PT1H
BEGIN:VTIMEZONE
TZID:Europe/Paris
BEGIN:DAYLIGHT
TZOFFSETFROM:+0100
TZOFFSETTO:+0200
TZNAME:CEST
DTSTART:20250330T010000
END:DAYLIGHT
BEGIN:STANDARD
TZOFFSETFROM:+0200
TZOFFSETTO:+0100
TZNAME:CET
DTSTART:20251026T010000
END:STANDARD
BEGIN:DAYLIGHT
TZOFFSETFROM:+0100
TZOFFSETTO:+0200
TZNAME:CEST
DTSTART:20260329T010000
END:DAYLIGHT
BEGIN:STANDARD
TZOFFSETFROM:+0200
TZOFFSETTO:+0100
TZNAME:CET
DTSTART:20261025T010000
END:STANDARD
BEGIN:DAYLIGHT
TZOFFSETFROM:+0100
TZOFFSETTO:+0200
TZNAME:CEST
DTSTART:20270328T010000
END:DAYLIGHT
BEGIN:STANDARD
TZOFFSETFROM:+0200
TZOFFSETTO:+0100
TZNAME:CET
DTSTART:20271031T010000
END:STANDARD
END:VTIMEZONE
BEGIN:VEVENT
DTSTART;TZID=Europe/Paris:20260129T183000
DTEND;TZID=Europe/Paris:20260129T203000
DTSTAMP:20260421T140151
CREATED:20251229T143152Z
LAST-MODIFIED:20260127T164617Z
UID:295-1769711400-1769718600@centreprotestantdelouest.ovh
SUMMARY:Conférence : Les Chamoiseries et Ganteries Niortaises.
DESCRIPTION:Conférence : Les Chamoiseries et Ganteries Niortaises.\npar Daniel COURANT Conservateur en Chef Honoraire des Musées de Niort.\n\nRésumé : Le conférencier retracera l’histoire de la chamoiserie et de la ganterie à Niort du XIIIème siècle jusqu’à nos jours. Il s’intéressera à ce qui a fait le prestige de l’entreprise avant de relater son déclin en mettant l’accent sur tous ceux qui ont fait vivre cette entreprise par leur apport de savoir-faire technique ou managérial\, mais aussi aux mouvements sociaux inducteurs de la création de syndicats ou de mutuelle.\nConférence ouverte à tous 5 € non adhérents – 3 € adhérents (Adhésion CPO : 15 €/an)\nMetullum – Salle Le Méliès Pl. Bujault\, Melle
URL:https://centreprotestantdelouest.ovh/index.php/event/conference-les-chamoiseries-et-ganteries-niortaises/
LOCATION:Metullum – Salle Le Méliès\, Pl. Bujault\, Melle\, 79500\, France
CATEGORIES:Conférence
ORGANIZER;CN="CPO":MAILTO:contact@centreprotestantdelouest.ovh
END:VEVENT
END:VCALENDAR